BEGIN:VCALENDAR
VERSION:2.0
METHOD:REQUEST
PRODID: -//VET Campus
URL:https://training.edway.edu.au/training-courses/public-course/red-card-transfer/154631.cfm?ics
BEGIN:VEVENT
UID:24218.TRAINING.EDWAY.EDU.AU
ORGANIZER;CN=Edway Training:MAILTO:no-reply@edway.com.au
DTSTAMP:20260323T163540
DTSTART;TZID=Australia/Melbourne:20260429T110000
DTEND;TZID=Australia/Melbourne:20260429T120000
SUMMARY:RED CARD TRANSFER at ONLINE TRAINING
LOCATION:ONLINE TRAINING: 3 Bowen Cres,  Melbourne, Melbourne, VIC 3004
DESCRIPTION:RED CARD TRANSFER at ONLINE TRAINING - 11:00AM to 12:00PM
SEQUENCE:0
PRIORITY:1
TRANSP:OPAQUE
CLASS:PUBLIC
BEGIN:VALARM
TRIGGER:-PT30M
ACTION:DISPLAY
DESCRIPTION:Reminder
END:VALARM
END:VEVENT
END:VCALENDAR
